BEGIN:VCALENDAR
VERSION:2.0
CALSCALE:GREGORIAN
METHOD:PUBLISH
X-WR-TIMEZONE:UTC
BEGIN:VEVENT
SUMMARY:Taller online y gratuito – Tapas veganas: nutritivas\, saludable
 s y ricas en proteínas
DTSTART:20260512T163000Z
DTEND:20260512T180000Z
DTSTAMP:20260423T134014Z
UID:https://reserva.terraveritas.es/talleronlineygratuitotapasveganasnutri
 tivassaludablesyricasenproteinas
CATEGORIES:
DESCRIPTION:https://reserva.terraveritas.es/talleronlineygratuitotapasvega
 nasnutritivassaludablesyricasenproteinas
GEO:0.0;0.0
URL:https://reserva.terraveritas.es/talleronlineygratuitotapasveganasnutri
 tivassaludablesyricasenproteinas
END:VEVENT
END:VCALENDAR
