BEGIN:VCALENDAR
VERSION:2.0
CALSCALE:GREGORIAN
METHOD:PUBLISH
X-WR-TIMEZONE:UTC
BEGIN:VEVENT
SUMMARY:Taller online y gratuito - Recetas sin gluten con alimentos de tem
 porada
DTSTART:20260526T163000Z
DTEND:20260526T180000Z
DTSTAMP:20260423T133609Z
UID:https://reserva.terraveritas.es/talleronlineygratuitorecetassinglutenc
 onalimentosdetemporada
CATEGORIES:
DESCRIPTION:https://reserva.terraveritas.es/talleronlineygratuitorecetassi
 nglutenconalimentosdetemporada
GEO:0.0;0.0
URL:https://reserva.terraveritas.es/talleronlineygratuitorecetassinglutenc
 onalimentosdetemporada
END:VEVENT
END:VCALENDAR
