BEGIN:VCALENDAR
VERSION:2.0
CALSCALE:GREGORIAN
METHOD:PUBLISH
X-WR-TIMEZONE:UTC
BEGIN:VEVENT
SUMMARY:Taller online y gratuito – Cómo elegir bien tu protector solar 
 y disfrutar del sol de forma saludable
DTSTART:20260519T163000Z
DTEND:20260519T180000Z
DTSTAMP:20260423T133926Z
UID:https://reserva.terraveritas.es/talleronlineygratuitocomoelegirbientup
 rotectorsolarydisfrutardelsoldeformasaludable
CATEGORIES:
DESCRIPTION:https://reserva.terraveritas.es/talleronlineygratuitocomoelegi
 rbientuprotectorsolarydisfrutardelsoldeformasaludable
GEO:0.0;0.0
URL:https://reserva.terraveritas.es/talleronlineygratuitocomoelegirbientup
 rotectorsolarydisfrutardelsoldeformasaludable
END:VEVENT
END:VCALENDAR
