BEGIN:VCALENDAR
VERSION:2.0
CALSCALE:GREGORIAN
METHOD:PUBLISH
X-WR-TIMEZONE:UTC
BEGIN:VEVENT
SUMMARY:Taller online y gratuito – Cenas saludables\, equilibradas y del
 iciosas en menos de 20 minutos
DTSTART:20260520T163000Z
DTEND:20260520T180000Z
DTSTAMP:20260423T133440Z
UID:https://reserva.terraveritas.es/talleronlineygratuitocenassaludableseq
 uilibradasydeliciosasenmenosde20minutos
CATEGORIES:
DESCRIPTION:https://reserva.terraveritas.es/talleronlineygratuitocenassalu
 dablesequilibradasydeliciosasenmenosde20minutos
GEO:0.0;0.0
URL:https://reserva.terraveritas.es/talleronlineygratuitocenassaludableseq
 uilibradasydeliciosasenmenosde20minutos
END:VEVENT
END:VCALENDAR
